BEGIN:VCALENDAR
VERSION:2.0
PRODID:-//Macchine Edili News - ECPv6.15.20//NONSGML v1.0//EN
CALSCALE:GREGORIAN
METHOD:PUBLISH
X-ORIGINAL-URL:https://www.macchinedilinews.it
X-WR-CALDESC:Eventi per Macchine Edili News
REFRESH-INTERVAL;VALUE=DURATION:PT1H
X-Robots-Tag:noindex
X-PUBLISHED-TTL:PT1H
BEGIN:VTIMEZONE
TZID:Europe/Rome
BEGIN:DAYLIGHT
TZOFFSETFROM:+0100
TZOFFSETTO:+0200
TZNAME:CEST
DTSTART:20180325T010000
END:DAYLIGHT
BEGIN:STANDARD
TZOFFSETFROM:+0200
TZOFFSETTO:+0100
TZNAME:CET
DTSTART:20181028T010000
END:STANDARD
BEGIN:DAYLIGHT
TZOFFSETFROM:+0100
TZOFFSETTO:+0200
TZNAME:CEST
DTSTART:20190331T010000
END:DAYLIGHT
BEGIN:STANDARD
TZOFFSETFROM:+0200
TZOFFSETTO:+0100
TZNAME:CET
DTSTART:20191027T010000
END:STANDARD
BEGIN:DAYLIGHT
TZOFFSETFROM:+0100
TZOFFSETTO:+0200
TZNAME:CEST
DTSTART:20200329T010000
END:DAYLIGHT
BEGIN:STANDARD
TZOFFSETFROM:+0200
TZOFFSETTO:+0100
TZNAME:CET
DTSTART:20201025T010000
END:STANDARD
END:VTIMEZONE
BEGIN:VEVENT
DTSTART;TZID=Europe/Rome:20191024T080000
DTEND;TZID=Europe/Rome:20191026T170000
DTSTAMP:20260424T104442
CREATED:20190424T123039Z
LAST-MODIFIED:20190424T123039Z
UID:38452-1571904000-1572109200@www.macchinedilinews.it
SUMMARY:SAIE  Bari 2019
DESCRIPTION:Organizzato da Senaf\, SAIE Bari (24-26 ottobre 2019) è un evento professionale nato con l’obiettivo di diventare il punto di riferimento del Centro Sud Italia e del bacino del Mediterraneo\, anche grazie al coinvolgimento delle principali associazioni del settore. \nTante le iniziative che animeranno SAIE Bari\, tutte volte a mostrare l’eccellenza dell’intera filiera delle costruzioni\, attraverso percorsi dedicati ai temi chiave dell’innovazione\, della sicurezza sismica\, della sostenibilità e della trasformazione digitale. Attraverso workshop e convegni che erogheranno crediti formativi ai professionisti\, dimostrazioni e prove pratiche\, la manifestazione darà spazio alle realtà consolidate del comparto\, mostrando tutta la filiera\, dal progetto alla realizzazione finale del prodotto.
URL:https://www.macchinedilinews.it/evento/saie-bari-2019/
LOCATION:Bari\, Fiera del Levante\, Lungomare Starita\, 4\, Bari\, 70132
CATEGORIES:Fiera
ATTACH;FMTTYPE=image/jpeg:https://static.tecnichenuove.it/macchinedilinews/2019/04/Saie-logo.jpg
END:VEVENT
END:VCALENDAR