BEGIN:VCALENDAR
VERSION:2.0
PRODID:-//Macchine Edili News - ECPv6.15.20//NONSGML v1.0//EN
CALSCALE:GREGORIAN
METHOD:PUBLISH
X-ORIGINAL-URL:https://www.macchinedilinews.it
X-WR-CALDESC:Eventi per Macchine Edili News
REFRESH-INTERVAL;VALUE=DURATION:PT1H
X-Robots-Tag:noindex
X-PUBLISHED-TTL:PT1H
BEGIN:VTIMEZONE
TZID:Europe/Rome
BEGIN:DAYLIGHT
TZOFFSETFROM:+0100
TZOFFSETTO:+0200
TZNAME:CEST
DTSTART:20170326T010000
END:DAYLIGHT
BEGIN:STANDARD
TZOFFSETFROM:+0200
TZOFFSETTO:+0100
TZNAME:CET
DTSTART:20171029T010000
END:STANDARD
BEGIN:DAYLIGHT
TZOFFSETFROM:+0100
TZOFFSETTO:+0200
TZNAME:CEST
DTSTART:20180325T010000
END:DAYLIGHT
BEGIN:STANDARD
TZOFFSETFROM:+0200
TZOFFSETTO:+0100
TZNAME:CET
DTSTART:20181028T010000
END:STANDARD
BEGIN:DAYLIGHT
TZOFFSETFROM:+0100
TZOFFSETTO:+0200
TZNAME:CEST
DTSTART:20190331T010000
END:DAYLIGHT
BEGIN:STANDARD
TZOFFSETFROM:+0200
TZOFFSETTO:+0100
TZNAME:CET
DTSTART:20191027T010000
END:STANDARD
END:VTIMEZONE
BEGIN:VEVENT
DTSTART;TZID=Europe/Rome:20181108T083000
DTEND;TZID=Europe/Rome:20181110T173000
DTSTAMP:20260424T092501
CREATED:20180222T110343Z
LAST-MODIFIED:20180222T112035Z
UID:33001-1541665800-1541871000@www.macchinedilinews.it
SUMMARY:Giornate Italiane del Calcestruzzo 2018
DESCRIPTION:GIC\, Giornate Italiane del Calcestruzzo – fa il bis a Piacenza dall’8 al 10 novembre 2018. \nLa manifestazione\, a cadenza biennale\, ha già avuto un ottimo esordio durante la prima edizione del 2016. Allora sono stati ospitati 128 espositori diretti in rappresentanza di oltre 170 brand  e oltre 2.600 visitatori qualificati. \nRispetto all’edizione precedente non mancheranno\, naturalmente\, le novità. Due le nuove aree tematiche: IDREXPO – Italian Demolition & Recycling Expo e CONPAVITEXPO – Concrete Paving Technologies Expo. \nTra le “new entry”  dei patrocini Assiad (Associazione Italiana Produttori Additivi e Prodotti per Calcestruzzo)  e  Conpaviper (Associazione Italiana Sottofondi\, Massetti e Pavimentazioni e Rivestimenti Continui). \nGià dopo la prima edizione\, il GIC ha ottenuto la qualifica\, certificata\, di manifestazione italiana di rilevanza internazionale.  \n  \nAnche in occasione di questa seconda edizione del GIC-Giornate Italiane del Calcestruzzo/Italian Concrete Days verrà organizzata una serata di gala per la consegna degli ICTA-Italian Concrete Technology Awards il 9 novembre presso la Sala degli Arazzi della Galleria Alberoni di Piacenza.
URL:https://www.macchinedilinews.it/evento/giornate-italiane-del-calcestruzzo-2018/
LOCATION:Piacenza Expo\, Italia
CATEGORIES:Fiera
ATTACH;FMTTYPE=image/jpeg:https://static.tecnichenuove.it/macchinedilinews/2018/02/GIC2018-DATE.jpg
END:VEVENT
END:VCALENDAR