BEGIN:VCALENDAR
VERSION:2.0
PRODID:-//Macchine Edili News - ECPv6.15.20//NONSGML v1.0//EN
CALSCALE:GREGORIAN
METHOD:PUBLISH
X-ORIGINAL-URL:https://www.macchinedilinews.it
X-WR-CALDESC:Eventi per Macchine Edili News
REFRESH-INTERVAL;VALUE=DURATION:PT1H
X-Robots-Tag:noindex
X-PUBLISHED-TTL:PT1H
BEGIN:VTIMEZONE
TZID:Europe/Rome
BEGIN:DAYLIGHT
TZOFFSETFROM:+0100
TZOFFSETTO:+0200
TZNAME:CEST
DTSTART:20170326T010000
END:DAYLIGHT
BEGIN:STANDARD
TZOFFSETFROM:+0200
TZOFFSETTO:+0100
TZNAME:CET
DTSTART:20171029T010000
END:STANDARD
BEGIN:DAYLIGHT
TZOFFSETFROM:+0100
TZOFFSETTO:+0200
TZNAME:CEST
DTSTART:20180325T010000
END:DAYLIGHT
BEGIN:STANDARD
TZOFFSETFROM:+0200
TZOFFSETTO:+0100
TZNAME:CET
DTSTART:20181028T010000
END:STANDARD
BEGIN:DAYLIGHT
TZOFFSETFROM:+0100
TZOFFSETTO:+0200
TZNAME:CEST
DTSTART:20190331T010000
END:DAYLIGHT
BEGIN:STANDARD
TZOFFSETFROM:+0200
TZOFFSETTO:+0100
TZNAME:CET
DTSTART:20191027T010000
END:STANDARD
END:VTIMEZONE
BEGIN:VEVENT
DTSTART;TZID=Europe/Rome:20181003T090000
DTEND;TZID=Europe/Rome:20181006T173000
DTSTAMP:20260424T080333
CREATED:20180222T113934Z
LAST-MODIFIED:20180222T113934Z
UID:33009-1538557200-1538847000@www.macchinedilinews.it
SUMMARY:22° Geofluid a Piacenza
DESCRIPTION:Si svolge dal 3 al 6 ottobre 2018  a Piacenza Geofluid. \nE’ la 22a Mostra Internazionale delle tecnologie e attrezzature per la ricerca\, l’estrazione e il trasporto dei fluidi sotterranei. \nMa anche  delle perforazioni geotecniche\, geognostiche e geotermiche\, le fondazioni speciali e le palificazioni\, le tecnologie “senza scavo” e la costruzione di gallerie e opere sotterranee. Geofluid  festeggia nel 2018 i quarant’anni di vita. \nEcco le aree tematiche: : il Geofluid (dedicato alle tecnologie ed attrezzature per la ricerca\, l’estrazione e il trasporto dei fluidi sotterranei)\, il  Geotech (specializzato nei settori delle macchine ed attrezzature per le indagini nel sottosuolo\, le fondazioni speciali e le palificazioni e le perforazioni direzionali “NO DIG”)\, il  Geocontrol  (riservato alle tecnologie ed alla strumentazione per le analisi\, il monitoraggio ambientale e la bonifica del sottosuolo)\,  il  Geotunnel\, dedicato alle macchine\, attrezzature e strumentazioni per la costruzione di tunnel e gallerie\, il Geofluid Green\, con particolare attenzione alle tematiche ambientali. \nSul versante convegnistico\, è previsto  un ampio ed articolato programma di\nconferenze\, convegni\, seminari tecnici e workshop che – costituendo un tradizionale punto di forza della manifestazione – attrarranno sicuramente un numero elevato di partecipanti.
URL:https://www.macchinedilinews.it/evento/22-geofluid-piacenza/
LOCATION:Piacenza Expo\, Italia
CATEGORIES:Fiera
ATTACH;FMTTYPE=image/jpeg:https://static.tecnichenuove.it/macchinedilinews/2018/02/Logo-1.jpg
END:VEVENT
END:VCALENDAR