BEGIN:VCALENDAR
VERSION:2.0
PRODID:-//Macchine Edili News - ECPv6.15.20//NONSGML v1.0//EN
CALSCALE:GREGORIAN
METHOD:PUBLISH
X-ORIGINAL-URL:https://www.macchinedilinews.it
X-WR-CALDESC:Eventi per Macchine Edili News
REFRESH-INTERVAL;VALUE=DURATION:PT1H
X-Robots-Tag:noindex
X-PUBLISHED-TTL:PT1H
BEGIN:VTIMEZONE
TZID:Europe/Rome
BEGIN:DAYLIGHT
TZOFFSETFROM:+0100
TZOFFSETTO:+0200
TZNAME:CEST
DTSTART:20160327T010000
END:DAYLIGHT
BEGIN:STANDARD
TZOFFSETFROM:+0200
TZOFFSETTO:+0100
TZNAME:CET
DTSTART:20161030T010000
END:STANDARD
BEGIN:DAYLIGHT
TZOFFSETFROM:+0100
TZOFFSETTO:+0200
TZNAME:CEST
DTSTART:20170326T010000
END:DAYLIGHT
BEGIN:STANDARD
TZOFFSETFROM:+0200
TZOFFSETTO:+0100
TZNAME:CET
DTSTART:20171029T010000
END:STANDARD
BEGIN:DAYLIGHT
TZOFFSETFROM:+0100
TZOFFSETTO:+0200
TZNAME:CEST
DTSTART:20180325T010000
END:DAYLIGHT
BEGIN:STANDARD
TZOFFSETFROM:+0200
TZOFFSETTO:+0100
TZNAME:CET
DTSTART:20181028T010000
END:STANDARD
END:VTIMEZONE
BEGIN:VEVENT
DTSTART;VALUE=DATE:20171013
DTEND;VALUE=DATE:20171014
DTSTAMP:20260424T135848
CREATED:20170710T074838Z
LAST-MODIFIED:20170710T074838Z
UID:29651-1507852800-1507939199@www.macchinedilinews.it
SUMMARY:25° Congresso Assodimi/Assonolo
DESCRIPTION:Il 25° Congresso Assodimi/Assonolo si terrà a Bologna venerdì 13 ottobre 2017 nella storica Villa Zarri\, risalente al 1578 dove tutt’oggi viene distillato uno dei pochi Brandy italiani. \nIl programma comprenderà momenti di incontro formativi e divulgativi. Saranno presenti partner europei (come Riwal e Kiloutou)\, i past president di Assodimi\, rappresentanti del mondo della tecnologia e dell’economia. \nIl claim dell’evento sarà “Noleggio 4.0: Digitalizzare\, innovare\, cambiare\, comunicare.
URL:https://www.macchinedilinews.it/evento/25-congresso-assodimiassonolo/
LOCATION:Bologna\, Italia
CATEGORIES:Congressi
ATTACH;FMTTYPE=image/jpeg:https://static.tecnichenuove.it/macchinedilinews/2017/07/FB.jpg
END:VEVENT
END:VCALENDAR